BEGIN:VCALENDAR
VERSION:2.0
PRODID:-//Vegan Visibility Productions - ECPv6.15.20//NONSGML v1.0//EN
CALSCALE:GREGORIAN
METHOD:PUBLISH
X-WR-CALNAME:Vegan Visibility Productions
X-ORIGINAL-URL:https://veganvisibilityproductions.com
X-WR-CALDESC:Events for Vegan Visibility Productions
REFRESH-INTERVAL;VALUE=DURATION:PT1H
X-Robots-Tag:noindex
X-PUBLISHED-TTL:PT1H
BEGIN:VTIMEZONE
TZID:America/New_York
BEGIN:DAYLIGHT
TZOFFSETFROM:-0500
TZOFFSETTO:-0400
TZNAME:EDT
DTSTART:20230312T070000
END:DAYLIGHT
BEGIN:STANDARD
TZOFFSETFROM:-0400
TZOFFSETTO:-0500
TZNAME:EST
DTSTART:20231105T060000
END:STANDARD
BEGIN:DAYLIGHT
TZOFFSETFROM:-0500
TZOFFSETTO:-0400
TZNAME:EDT
DTSTART:20240310T070000
END:DAYLIGHT
BEGIN:STANDARD
TZOFFSETFROM:-0400
TZOFFSETTO:-0500
TZNAME:EST
DTSTART:20241103T060000
END:STANDARD
BEGIN:DAYLIGHT
TZOFFSETFROM:-0500
TZOFFSETTO:-0400
TZNAME:EDT
DTSTART:20250309T070000
END:DAYLIGHT
BEGIN:STANDARD
TZOFFSETFROM:-0400
TZOFFSETTO:-0500
TZNAME:EST
DTSTART:20251102T060000
END:STANDARD
END:VTIMEZONE
BEGIN:VTIMEZONE
TZID:UTC
BEGIN:STANDARD
TZOFFSETFROM:+0000
TZOFFSETTO:+0000
TZNAME:UTC
DTSTART:20230101T000000
END:STANDARD
END:VTIMEZONE
BEGIN:VTIMEZONE
TZID:Asia/Dubai
BEGIN:STANDARD
TZOFFSETFROM:+0400
TZOFFSETTO:+0400
TZNAME:+04
DTSTART:20230101T000000
END:STANDARD
END:VTIMEZONE
BEGIN:VTIMEZONE
TZID:America/Halifax
BEGIN:DAYLIGHT
TZOFFSETFROM:-0400
TZOFFSETTO:-0300
TZNAME:ADT
DTSTART:20230312T060000
END:DAYLIGHT
BEGIN:STANDARD
TZOFFSETFROM:-0300
TZOFFSETTO:-0400
TZNAME:AST
DTSTART:20231105T050000
END:STANDARD
BEGIN:DAYLIGHT
TZOFFSETFROM:-0400
TZOFFSETTO:-0300
TZNAME:ADT
DTSTART:20240310T060000
END:DAYLIGHT
BEGIN:STANDARD
TZOFFSETFROM:-0300
TZOFFSETTO:-0400
TZNAME:AST
DTSTART:20241103T050000
END:STANDARD
BEGIN:DAYLIGHT
TZOFFSETFROM:-0400
TZOFFSETTO:-0300
TZNAME:ADT
DTSTART:20250309T060000
END:DAYLIGHT
BEGIN:STANDARD
TZOFFSETFROM:-0300
TZOFFSETTO:-0400
TZNAME:AST
DTSTART:20251102T050000
END:STANDARD
END:VTIMEZONE
BEGIN:VEVENT
DTSTART;TZID=America/New_York:20240612T140000
DTEND;TZID=America/New_York:20240612T140000
DTSTAMP:20260425T233724
CREATED:20240528T132003Z
LAST-MODIFIED:20240724T154711Z
UID:3759-1718200800-1718200800@veganvisibilityproductions.com
SUMMARY:VIVE LIVE - Wk 2 - Understanding Your Target Audience to Drive Engagement
DESCRIPTION:Join us at our VIVE Live\, June 12\, 2024 at 11am PT/2pm ET  – Here’s the link to join:  https://www.youtube.com/@VeganpreneurRevolution  – Subscribe to our Channel and Leave a Comment!
URL:https://veganvisibilityproductions.com/event/vive-live-wk-2-understanding-your-target-audience-to-drive-engagement
LOCATION:Zoom
END:VEVENT
BEGIN:VEVENT
DTSTART;TZID=America/New_York:20240605T140000
DTEND;TZID=America/New_York:20240605T140000
DTSTAMP:20260425T233724
CREATED:20240528T131624Z
LAST-MODIFIED:20240724T154643Z
UID:3756-1717596000-1717596000@veganvisibilityproductions.com
SUMMARY:VIVE LIVE - Wk 1 - Developing a Content Calendar
DESCRIPTION:Join us at our VIVE Live\, June 5\, 2024 at 11am PT/2pm ET  – Here’s the link to join:  https://www.youtube.com/@VeganpreneurRevolution  – Subscribe to our Channel and Leave a Comment!
URL:https://veganvisibilityproductions.com/event/vive-live-wk-1-developing-a-content-calendar
LOCATION:Zoom
END:VEVENT
BEGIN:VEVENT
DTSTART;TZID=UTC:20240604T160000
DTEND;TZID=UTC:20240604T190000
DTSTAMP:20260425T233724
CREATED:20240528T100525Z
LAST-MODIFIED:20240528T103604Z
UID:3751-1717516800-1717527600@veganvisibilityproductions.com
SUMMARY:Virtual Dinner Party
DESCRIPTION:Our Virtual Dinner Party is happening on June 4\, 2024\, at 4pm PT / 7pm ET – Register now to join!
URL:https://veganvisibilityproductions.com/event/virtual-dinner-party-0642024
LOCATION:Zoom
END:VEVENT
BEGIN:VEVENT
DTSTART;TZID=Asia/Dubai:20240530T200000
DTEND;TZID=Asia/Dubai:20240530T220000
DTSTAMP:20260425T233724
CREATED:20240523T163735Z
LAST-MODIFIED:20240523T164200Z
UID:3643-1717099200-1717106400@veganvisibilityproductions.com
SUMMARY:Create a Lead Magnet that Converts Like Crazy
DESCRIPTION:If you’re ready to fast-track your business\, your practice\, your program\, or your conversations with potential clients or patients\, build a highly responsive subscriber list\, and know how to make revenue-generating offers to your subscribers\, our exclusive 2-hour virtual training is a game changer. \nThis virtual training is your golden ticket to unlocking strategies that will transform your marketing. Find out more and register at:\nhttps://veganvisibilityproductions.com/lmt-053024
URL:https://veganvisibilityproductions.com/event/create-a-lead-magnet-that-converts-like-crazy
END:VEVENT
BEGIN:VEVENT
DTSTART;TZID=UTC:20240529T140000
DTEND;TZID=UTC:20240529T150000
DTSTAMP:20260425T233724
CREATED:20240424T043639Z
LAST-MODIFIED:20240424T043639Z
UID:2952-1716991200-1716994800@veganvisibilityproductions.com
SUMMARY:VIVE LIVE: Storytelling for Change
DESCRIPTION:Join us at our VIVE Live\, May 29\, 2024 at 11am PT/2pm ET  – \nHere’s the link to join:  https://www.youtube.com/@VeganpreneurRevolution  – \nSubscribe to our Channel and Leave a Comment!
URL:https://veganvisibilityproductions.com/event/vive-live-storytelling-for-change
END:VEVENT
BEGIN:VEVENT
DTSTART;TZID=America/Halifax:20240522T140000
DTEND;TZID=America/Halifax:20240522T143000
DTSTAMP:20260425T233724
CREATED:20240424T043839Z
LAST-MODIFIED:20240424T043927Z
UID:2954-1716386400-1716388200@veganvisibilityproductions.com
SUMMARY:VIVE LIVE: Using Imagery for Impact
DESCRIPTION:Join us at our VIVE Live\, May 22\, 2024 at 11am PT/2pm ET  – \nHere’s the link to join: https://www.youtube.com/@VeganpreneurRevolution  – \nSubscribe to our Channel and Leave a Comment!
URL:https://veganvisibilityproductions.com/event/vive-live-using-imagery-for-impact-2
END:VEVENT
BEGIN:VEVENT
DTSTART;TZID=America/Halifax:20240515T140000
DTEND;TZID=America/Halifax:20240515T143000
DTSTAMP:20260425T233724
CREATED:20240424T044608Z
LAST-MODIFIED:20240424T044608Z
UID:2956-1715781600-1715783400@veganvisibilityproductions.com
SUMMARY:VIVE LIVE: Making a Story Memorable
DESCRIPTION:Join us at our VIVE Live\, May 15\, 2024 at 11am PT/2pm ET  – \nHere’s the link to join: https://www.youtube.com/@VeganpreneurRevolution  – \nSubscribe to our Channel and Leave a Comment!
URL:https://veganvisibilityproductions.com/event/vive-live-making-a-story-memorable-2
END:VEVENT
BEGIN:VEVENT
DTSTART;TZID=America/Halifax:20240508T140000
DTEND;TZID=America/Halifax:20240508T143000
DTSTAMP:20260425T233724
CREATED:20240424T042906Z
LAST-MODIFIED:20240424T044400Z
UID:2944-1715176800-1715178600@veganvisibilityproductions.com
SUMMARY:VIVE LIVE: Creating Connection through Story
DESCRIPTION:Join us at our VIVE Live\, May 8\, 2024 at 11am PT/2pm ET  – \nHere’s the link to join: https://www.youtube.com/@VeganpreneurRevolution  – \nSubscribe to our Channel and Leave a Comment!
URL:https://veganvisibilityproductions.com/event/vive-live-creating-connection-through-story
END:VEVENT
BEGIN:VEVENT
DTSTART;TZID=America/Halifax:20240501T140000
DTEND;TZID=America/Halifax:20240501T143000
DTSTAMP:20260425T233724
CREATED:20240424T042355Z
LAST-MODIFIED:20240424T044033Z
UID:2940-1714572000-1714573800@veganvisibilityproductions.com
SUMMARY:VIVE LIVE: The Power of Setting the Story Narrative
DESCRIPTION:Join us at our VIVE Live\, May 1\, 2024 at 11am PT/2pm ET – \nHere’s the link to join:  https://www.youtube.com/@VeganpreneurRevolution   – \nSubscribe to our Channel and Leave a Comment!
URL:https://veganvisibilityproductions.com/event/vive-live-the-power-of-setting-the-narrative
END:VEVENT
BEGIN:VEVENT
DTSTART;TZID=America/New_York:20240430T190000
DTEND;TZID=America/New_York:20240430T203000
DTSTAMP:20260425T233724
CREATED:20240415T013017Z
LAST-MODIFIED:20240415T020013Z
UID:2390-1714503600-1714509000@veganvisibilityproductions.com
SUMMARY:Radiant Roots Optimal Health Bundle - Info Session #2
DESCRIPTION:HEALTH & LIFESTYLE SOLUTIONS\n– Bundle Contributor Information Session via Zoom\n– Sign up to attend:\nhttps://VeganVisibilityProductions.com/Radiant-Roots-OHB \n(Tuesday\, 4/30/24 at 4 – 5:30 pm PT / 7 – 8:30 pm ET)
URL:https://veganvisibilityproductions.com/event/radiant-roots-optimal-health-bundle-info-session-2
LOCATION:Zoom
END:VEVENT
BEGIN:VEVENT
DTSTART;TZID=America/New_York:20240426T140000
DTEND;TZID=America/New_York:20240426T153000
DTSTAMP:20260425T233724
CREATED:20240415T005554Z
LAST-MODIFIED:20240415T015601Z
UID:2387-1714140000-1714145400@veganvisibilityproductions.com
SUMMARY:Radiant Roots Optimal Health Bundle - Info Session #1
DESCRIPTION:HEALTH & LIFESTYLE SOLUTIONS\n– Bundle Contributor Information Session via Zoom  \n– Sign up to attend: \nhttps://VeganVisibilityProductions.com/Radiant-Roots-OHB  \n(Friday\, 4/26/24   11 am – 12:30 pm PT / 2 – 3:30 pm ET) \n 
URL:https://veganvisibilityproductions.com/event/radiant-roots-optimal-health-bundle-info-session-1
LOCATION:Zoom
END:VEVENT
BEGIN:VEVENT
DTSTART;TZID=America/Halifax:20240424T140000
DTEND;TZID=America/Halifax:20240424T143000
DTSTAMP:20260425T233724
CREATED:20240415T183048Z
LAST-MODIFIED:20240424T044317Z
UID:2496-1713967200-1713969000@veganvisibilityproductions.com
SUMMARY:VIVE LIVE: Influencer Dos and Don'ts
DESCRIPTION:Join us on VIVE Live\, April 24th at 11am PT/2pm ET \nHere’s the link to join: https://www.youtube.com/live/G_28lCAkbUs?si=MrSRmhqb2n5HA9_W
URL:https://veganvisibilityproductions.com/event/vive-live-influencer-dos-and-donts
END:VEVENT
BEGIN:VEVENT
DTSTART;TZID=America/Halifax:20240417T140000
DTEND;TZID=America/Halifax:20240417T143000
DTSTAMP:20260425T233724
CREATED:20240415T182854Z
LAST-MODIFIED:20240424T045440Z
UID:2492-1713362400-1713364200@veganvisibilityproductions.com
SUMMARY:VIVE LIVE: Dos and Don'ts of Email Marketing
DESCRIPTION:Join us on VIVE Live\, April 17th at 11am PT/2pm ET \nHere’s the link to join: https://www.youtube.com/live/TiHb87ydgkE?si=PDeAfzWSRBj3J7L8
URL:https://veganvisibilityproductions.com/event/vive-live-dos-and-donts-of-email-marketing-2
END:VEVENT
BEGIN:VEVENT
DTSTART;TZID=America/Halifax:20240410T140000
DTEND;TZID=America/Halifax:20240410T143000
DTSTAMP:20260425T233724
CREATED:20240415T182421Z
LAST-MODIFIED:20240424T045357Z
UID:2490-1712757600-1712759400@veganvisibilityproductions.com
SUMMARY:VIVE LIVE: Content Creation and Marketing Strategy - Do’s and Don’ts
DESCRIPTION:Join us on VIVE Live\, April 10th at 11am PT/2pm ET \nHere’s the link to join: https://www.youtube.com/live/Dkd3kHcKX10?si=T-grtjI0svzboosN
URL:https://veganvisibilityproductions.com/event/vive-live-dos-and-donts-of-email-marketing
END:VEVENT
BEGIN:VEVENT
DTSTART;TZID=America/New_York:20240409T190000
DTEND;TZID=America/New_York:20240409T210000
DTSTAMP:20260425T233724
CREATED:20240320T180930Z
LAST-MODIFIED:20240415T020255Z
UID:1259-1712689200-1712696400@veganvisibilityproductions.com
SUMMARY:Fast Track Marketing Masterclass ENCORE
DESCRIPTION:Unlock the Secrets to Elevating Your Business\nFAST TRACK MARKETING Masterclass\nTo Gain Market Reach\, Visibility\, Influence\, and Revenues! \n  \n(Tuesday\, April 9\, 2024 | 4pm – 6pm PT / 7pm – 9pm ET)
URL:https://veganvisibilityproductions.com/event/fast-track-marketing-masterclass-encore
LOCATION:Zoom
END:VEVENT
BEGIN:VEVENT
DTSTART;TZID=America/Halifax:20240403T140000
DTEND;TZID=America/Halifax:20240403T143000
DTSTAMP:20260425T233724
CREATED:20240415T182143Z
LAST-MODIFIED:20240424T045320Z
UID:2488-1712152800-1712154600@veganvisibilityproductions.com
SUMMARY:VIVE LIVE: Avoid These 3 Costly Marketing Mistakes Online
DESCRIPTION:Join us on VIVE Live\, April 3rd at 11am PT/2pm ET \nHere’s the link to join: https://www.youtube.com/watch?v=xkxRNUqK1wQ
URL:https://veganvisibilityproductions.com/event/vive-live-avoid-these-3-costly-marketing-mistakes-online
END:VEVENT
BEGIN:VEVENT
DTSTART;TZID=UTC:20240319T110000
DTEND;TZID=UTC:20240319T130000
DTSTAMP:20260425T233724
CREATED:20240312T211238Z
LAST-MODIFIED:20240320T180106Z
UID:1081-1710846000-1710853200@veganvisibilityproductions.com
SUMMARY:Fast Track Marketing Masterclass
DESCRIPTION:Unlock the Secrets to Elevating Your Business\nFAST TRACK MARKETING Masterclass\nTo Gain Market Reach\, Visibility\, Influence\, and Revenues! \n(Tuesday\, March 19\, 2024 | 11am – 1pm PT / 2pm – 4pm ET)
URL:https://veganvisibilityproductions.com/event/fast-track-marketing-masterclass
LOCATION:Zoom
END:VEVENT
END:VCALENDAR